BEGIN:VCALENDAR
VERSION:2.0
PRODID:-//NADI Kg Lata Janggut - ECPv6.15.13.1//NONSGML v1.0//EN
CALSCALE:GREGORIAN
METHOD:PUBLISH
X-WR-CALNAME:NADI Kg Lata Janggut
X-ORIGINAL-URL:https://kglatajanggut.nadi.my
X-WR-CALDESC:Events for NADI Kg Lata Janggut
REFRESH-INTERVAL;VALUE=DURATION:PT1H
X-Robots-Tag:noindex
X-PUBLISHED-TTL:PT1H
BEGIN:VTIMEZONE
TZID:UTC
BEGIN:STANDARD
TZOFFSETFROM:+0000
TZOFFSETTO:+0000
TZNAME:UTC
DTSTART:20240101T000000
END:STANDARD
END:VTIMEZONE
BEGIN:VEVENT
DTSTART;TZID=UTC:20250101T080000
DTEND;TZID=UTC:20250131T170000
DTSTAMP:20260420T153439
CREATED:20250117T005401Z
LAST-MODIFIED:20250117T005401Z
UID:3391-1735718400-1738342800@kglatajanggut.nadi.my
SUMMARY:INISIATIF KERAJAAN
DESCRIPTION:SETIAP HARI KETIKA PENGGUNA PERLUKAN
URL:https://kglatajanggut.nadi.my/event/inisiatif-kerajaan/
END:VEVENT
BEGIN:VEVENT
DTSTART;TZID=UTC:20250106T110000
DTEND;TZID=UTC:20250130T130000
DTSTAMP:20260420T153439
CREATED:20250117T005201Z
LAST-MODIFIED:20250117T005201Z
UID:3387-1736161200-1738242000@kglatajanggut.nadi.my
SUMMARY:MAHIR FOTO
DESCRIPTION:-SETIAP ISNIN DAN JUMAAT SETIAP MINGGU
URL:https://kglatajanggut.nadi.my/event/mahir-foto/
END:VEVENT
END:VCALENDAR