BEGIN:VCALENDAR
VERSION:2.0
PRODID:-//NADI Kg Lata Janggut - ECPv6.15.13.1//NONSGML v1.0//EN
CALSCALE:GREGORIAN
METHOD:PUBLISH
X-WR-CALNAME:NADI Kg Lata Janggut
X-ORIGINAL-URL:https://kglatajanggut.nadi.my
X-WR-CALDESC:Events for NADI Kg Lata Janggut
REFRESH-INTERVAL;VALUE=DURATION:PT1H
X-Robots-Tag:noindex
X-PUBLISHED-TTL:PT1H
BEGIN:VTIMEZONE
TZID:UTC
BEGIN:STANDARD
TZOFFSETFROM:+0000
TZOFFSETTO:+0000
TZNAME:UTC
DTSTART:20240101T000000
END:STANDARD
END:VTIMEZONE
BEGIN:VEVENT
DTSTART;TZID=UTC:20250201T080000
DTEND;TZID=UTC:20250228T170000
DTSTAMP:20260419T224655
CREATED:20250220T192552Z
LAST-MODIFIED:20250220T192558Z
UID:3426-1738396800-1740762000@kglatajanggut.nadi.my
SUMMARY:INISIATIF KERAJAAN
DESCRIPTION:INISIATIF KERAJAAN DIBUKA PADA SETIAP HARI MENGIKUT KEPERLUAN PENGGUNA.
URL:https://kglatajanggut.nadi.my/event/inisiatif-kerajaan-2/
END:VEVENT
BEGIN:VEVENT
DTSTART;TZID=UTC:20250201T093000
DTEND;TZID=UTC:20250228T123000
DTSTAMP:20260419T224655
CREATED:20250220T191758Z
LAST-MODIFIED:20250220T191800Z
UID:3418-1738402200-1740745800@kglatajanggut.nadi.my
SUMMARY:MAHIR MASAK DAN PERTANIAN PINTAR
DESCRIPTION:SETIAP HARI JUMAAT DAN SABTU SETIAP MINGGU
URL:https://kglatajanggut.nadi.my/event/mahir-masak-dan-pertanian-pintar/
END:VEVENT
BEGIN:VEVENT
DTSTART;TZID=UTC:20250201T103000
DTEND;TZID=UTC:20250223T123000
DTSTAMP:20260419T224655
CREATED:20250220T192152Z
LAST-MODIFIED:20250220T192154Z
UID:3422-1738405800-1740313800@kglatajanggut.nadi.my
SUMMARY:NADI KESEDARAN SAFE&SHIELD
DESCRIPTION:WEBINAR KESEDARAN TERBUKA KEPADA SEMUA PESERTA \nSETIAP SABTU DAN AHAD SETIAP MINGGU
URL:https://kglatajanggut.nadi.my/event/nadi-kesedaran-safeshield-2/
END:VEVENT
BEGIN:VEVENT
DTSTART;TZID=UTC:20250203T110000
DTEND;TZID=UTC:20250224T120000
DTSTAMP:20260419T224655
CREATED:20250220T191549Z
LAST-MODIFIED:20250220T191600Z
UID:3416-1738580400-1740398400@kglatajanggut.nadi.my
SUMMARY:MAHIR JAHIT & MAHIR FOTO
DESCRIPTION:SETIAP HARI ISNIN SETIAP MINGGU
URL:https://kglatajanggut.nadi.my/event/mahir-jahit-mahir-foto/
END:VEVENT
BEGIN:VEVENT
DTSTART;TZID=UTC:20250205T103000
DTEND;TZID=UTC:20250228T123000
DTSTAMP:20260419T224655
CREATED:20250220T192434Z
LAST-MODIFIED:20250220T192442Z
UID:3424-1738751400-1740745800@kglatajanggut.nadi.my
SUMMARY:NADI KESEJAHTERAAN KENDIRI - WEBINAR SOKONGAN
DESCRIPTION:WEBINAR KESEJAHTERAAN KENDIRI MENERANGKAN BAGAIMANA UNTUK MENCEGAH DAN MENJAGA KESIHATAN DIRI DAN LANGKAH-LANGKAH UNTUK MENGATASINYA. \nKELAS BERJALAN PADA SETIAP HARI RABU DAN JUMAAT SETIAP MINGGU.
URL:https://kglatajanggut.nadi.my/event/nadi-kesejahteraan-kendiri-webinar-sokongan/
END:VEVENT
BEGIN:VEVENT
DTSTART;TZID=UTC:20250216T080000
DTEND;TZID=UTC:20250220T170000
DTSTAMP:20260419T224655
CREATED:20250220T191950Z
LAST-MODIFIED:20250220T191952Z
UID:3420-1739692800-1740070800@kglatajanggut.nadi.my
SUMMARY:NADI NURTURE DILEA - LIVE CLASS
DESCRIPTION:TERBUKA KEPADA PESERTA SEKOLAH \,PEMBELAJARAN SECARA WEBINAR
URL:https://kglatajanggut.nadi.my/event/nadi-nurture-dilea-live-class-2/
END:VEVENT
END:VCALENDAR