BEGIN:VCALENDAR
VERSION:2.0
PRODID:-//NADI Kg Lata Janggut - ECPv6.15.13.1//NONSGML v1.0//EN
CALSCALE:GREGORIAN
METHOD:PUBLISH
X-WR-CALNAME:NADI Kg Lata Janggut
X-ORIGINAL-URL:https://kglatajanggut.nadi.my
X-WR-CALDESC:Events for NADI Kg Lata Janggut
REFRESH-INTERVAL;VALUE=DURATION:PT1H
X-Robots-Tag:noindex
X-PUBLISHED-TTL:PT1H
BEGIN:VTIMEZONE
TZID:UTC
BEGIN:STANDARD
TZOFFSETFROM:+0000
TZOFFSETTO:+0000
TZNAME:UTC
DTSTART:20220101T000000
END:STANDARD
END:VTIMEZONE
BEGIN:VEVENT
DTSTART;TZID=UTC:20240120T080000
DTEND;TZID=UTC:20240120T170000
DTSTAMP:20260420T043135
CREATED:20240101T013131Z
LAST-MODIFIED:20240101T013131Z
UID:3286-1705737600-1705770000@kglatajanggut.nadi.my
SUMMARY:KELAS ASAS MENAIP
DESCRIPTION:-KELAS ASAS MENAIP TERBUKA KEPADA SEMUA
URL:https://kglatajanggut.nadi.my/event/kelas-asas-menaip-2/
LOCATION:PEDI KG LATA JANGGUT\, PEDI KG LATA JANGGUT
CATEGORIES:DEFAULT
END:VEVENT
BEGIN:VEVENT
DTSTART;TZID=UTC:20240117T080000
DTEND;TZID=UTC:20240117T170000
DTSTAMP:20260420T043135
CREATED:20240101T013056Z
LAST-MODIFIED:20240101T013056Z
UID:3285-1705478400-1705510800@kglatajanggut.nadi.my
SUMMARY:KELAS POWER POINT
DESCRIPTION:-KELAS P.POINT TERBUKA KEPADA SEMUA
URL:https://kglatajanggut.nadi.my/event/kelas-power-point/
LOCATION:PEDI KG LATA JANGGUT\, PEDI KG LATA JANGGUT
CATEGORIES:DEFAULT
END:VEVENT
BEGIN:VEVENT
DTSTART;TZID=UTC:20240115T080000
DTEND;TZID=UTC:20240115T170000
DTSTAMP:20260420T043135
CREATED:20240101T013020Z
LAST-MODIFIED:20240101T013020Z
UID:3284-1705305600-1705338000@kglatajanggut.nadi.my
SUMMARY:KELAS CANVA (MENGEDIT)
DESCRIPTION:-KELAS CANVA TERBUKA KEPADA SEMUA YANG INGIN MENYERTAI
URL:https://kglatajanggut.nadi.my/event/kelas-canva-mengedit/
LOCATION:PEDI KG LATA JANGGUT\, PEDI KG LATA JANGGUT
CATEGORIES:DEFAULT
END:VEVENT
BEGIN:VEVENT
DTSTART;TZID=UTC:20240113T080000
DTEND;TZID=UTC:20240113T170000
DTSTAMP:20260420T043135
CREATED:20240101T012936Z
LAST-MODIFIED:20240101T012936Z
UID:3283-1705132800-1705165200@kglatajanggut.nadi.my
SUMMARY:TEKA SILANG KATA
DESCRIPTION:-TEKA SILANG KATA DIBUKA KEPADA SEMUA PESERTA
URL:https://kglatajanggut.nadi.my/event/teka-silang-kata/
LOCATION:PEDI KG LATA JANGGUT\, PEDI KG LATA JANGGUT
CATEGORIES:DEFAULT
END:VEVENT
BEGIN:VEVENT
DTSTART;TZID=UTC:20240111T080000
DTEND;TZID=UTC:20240111T170000
DTSTAMP:20260420T043135
CREATED:20240101T012858Z
LAST-MODIFIED:20240101T012858Z
UID:3282-1704960000-1704992400@kglatajanggut.nadi.my
SUMMARY:KELAS PUZZLE ONLINE
DESCRIPTION:-KELAS PUZZLE ONLINE TERBUKA KEPADA SEMUA YANG BERMINAT
URL:https://kglatajanggut.nadi.my/event/kelas-puzzle-online/
LOCATION:PEDI KG LATA JANGGUT\, PEDI KG LATA JANGGUT
CATEGORIES:DEFAULT
END:VEVENT
BEGIN:VEVENT
DTSTART;TZID=UTC:20240109T080000
DTEND;TZID=UTC:20240109T170000
DTSTAMP:20260420T043135
CREATED:20240101T012813Z
LAST-MODIFIED:20240101T012813Z
UID:3281-1704787200-1704819600@kglatajanggut.nadi.my
SUMMARY:GOOGLE TRANSLATE
DESCRIPTION:-KELAS GOOGLE TRANSLATE TERBUKA KEPADA SEMUA PESERTA
URL:https://kglatajanggut.nadi.my/event/google-translate-2/
LOCATION:PEDI KG LATA JANGGUT\, PEDI KG LATA JANGGUT
CATEGORIES:DEFAULT
END:VEVENT
BEGIN:VEVENT
DTSTART;TZID=UTC:20240107T080000
DTEND;TZID=UTC:20240107T170000
DTSTAMP:20260420T043135
CREATED:20240101T012730Z
LAST-MODIFIED:20240101T012730Z
UID:3280-1704614400-1704646800@kglatajanggut.nadi.my
SUMMARY:KUIZ KLIK DENGAN BIJAK (KDB)
DESCRIPTION:-KUIZ KDB TERBUKA KEPADA SEMUA
URL:https://kglatajanggut.nadi.my/event/kuiz-klik-dengan-bijak-kdb/
LOCATION:PEDI KG LATA JANGGUT\, PEDI KG LATA JANGGUT
CATEGORIES:DEFAULT
END:VEVENT
BEGIN:VEVENT
DTSTART;TZID=UTC:20240105T080000
DTEND;TZID=UTC:20240105T170000
DTSTAMP:20260420T043135
CREATED:20240101T012651Z
LAST-MODIFIED:20240101T012651Z
UID:3279-1704441600-1704474000@kglatajanggut.nadi.my
SUMMARY:QUIZIZZ ONLINE
DESCRIPTION:-QUIZIZZ ONLINE TERBUKA KEPADA SEMUA PESERTA
URL:https://kglatajanggut.nadi.my/event/quizizz-online-3/
LOCATION:PEDI KG LATA JANGGUT\, PEDI KG LATA JANGGUT
CATEGORIES:DEFAULT
END:VEVENT
BEGIN:VEVENT
DTSTART;TZID=UTC:20240103T080000
DTEND;TZID=UTC:20240103T170000
DTSTAMP:20260420T043135
CREATED:20240101T012556Z
LAST-MODIFIED:20240101T012556Z
UID:3278-1704268800-1704301200@kglatajanggut.nadi.my
SUMMARY:KELAS MIC.OFFICE
DESCRIPTION:-KELAS MIC.OFFICE DIADAKAN KEPADA SEMUA YANG BERMINAT
URL:https://kglatajanggut.nadi.my/event/kelas-mic-office/
LOCATION:PEDI KG LATA JANGGUT\, PEDI KG LATA JANGGUT
CATEGORIES:DEFAULT
END:VEVENT
BEGIN:VEVENT
DTSTART;TZID=UTC:20240101T080000
DTEND;TZID=UTC:20240101T170000
DTSTAMP:20260420T043135
CREATED:20240101T012509Z
LAST-MODIFIED:20240101T012509Z
UID:3277-1704096000-1704128400@kglatajanggut.nadi.my
SUMMARY:KELAS ASAS KOMPUTER
DESCRIPTION:-MENGADAKAN KELAS ASAS KOMPUTER KEPADA SEMUA PESERTA YANG INGIN MENGIKUTI
URL:https://kglatajanggut.nadi.my/event/kelas-asas-komputer-8/
LOCATION:PEDI KG LATA JANGGUT\, PEDI KG LATA JANGGUT
CATEGORIES:DEFAULT
END:VEVENT
BEGIN:VEVENT
DTSTART;TZID=UTC:20231222T080000
DTEND;TZID=UTC:20231222T170000
DTSTAMP:20260420T043135
CREATED:20231218T013711Z
LAST-MODIFIED:20231218T013711Z
UID:3276-1703232000-1703264400@kglatajanggut.nadi.my
SUMMARY:tutorial stem
DESCRIPTION:-tutorial stem kepada semua peserta yang mengikuti
URL:https://kglatajanggut.nadi.my/event/tutorial-stem/
LOCATION:PEDI KG LATA JANGGUT\, PEDI KG LATA JANGGUT
CATEGORIES:DEFAULT
END:VEVENT
BEGIN:VEVENT
DTSTART;TZID=UTC:20231220T080000
DTEND;TZID=UTC:20231220T170000
DTSTAMP:20260420T043135
CREATED:20231218T013619Z
LAST-MODIFIED:20231218T013619Z
UID:3275-1703059200-1703091600@kglatajanggut.nadi.my
SUMMARY:mic.office
DESCRIPTION:-kelas mic.office terbuka kepada semua
URL:https://kglatajanggut.nadi.my/event/mic-office/
LOCATION:PEDI KG LATA JANGGUT\, PEDI KG LATA JANGGUT
CATEGORIES:DEFAULT
END:VEVENT
BEGIN:VEVENT
DTSTART;TZID=UTC:20231220T080000
DTEND;TZID=UTC:20231220T170000
DTSTAMP:20260420T043135
CREATED:20231218T013529Z
LAST-MODIFIED:20231218T013529Z
UID:3274-1703059200-1703091600@kglatajanggut.nadi.my
SUMMARY:kelas asas menaip
DESCRIPTION:-kelas menaip terbuka kepada semua
URL:https://kglatajanggut.nadi.my/event/kelas-asas-menaip/
LOCATION:PEDI KG LATA JANGGUT\, PEDI KG LATA JANGGUT
CATEGORIES:DEFAULT
END:VEVENT
BEGIN:VEVENT
DTSTART;TZID=UTC:20231218T080000
DTEND;TZID=UTC:20231218T170000
DTSTAMP:20260420T043135
CREATED:20231218T013441Z
LAST-MODIFIED:20231218T013441Z
UID:3273-1702886400-1702918800@kglatajanggut.nadi.my
SUMMARY:kelas asas usahawan
DESCRIPTION:-kelas asas usahawan terbuka kepada para usahawan 
URL:https://kglatajanggut.nadi.my/event/kelas-asas-usahawan/
LOCATION:PEDI KG LATA JANGGUT\, PEDI KG LATA JANGGUT
CATEGORIES:DEFAULT
END:VEVENT
BEGIN:VEVENT
DTSTART;TZID=UTC:20231216T080000
DTEND;TZID=UTC:20231216T170000
DTSTAMP:20260420T043135
CREATED:20231218T013357Z
LAST-MODIFIED:20231218T013357Z
UID:3272-1702713600-1702746000@kglatajanggut.nadi.my
SUMMARY:kelas asas komputer
DESCRIPTION:-kelas asas komputer terbuka kepada semua peserta
URL:https://kglatajanggut.nadi.my/event/kelas-asas-komputer-7/
LOCATION:PEDI KG LATA JANGGUT\, PEDI KG LATA JANGGUT
CATEGORIES:DEFAULT
END:VEVENT
BEGIN:VEVENT
DTSTART;TZID=UTC:20231213T080000
DTEND;TZID=UTC:20231213T170000
DTSTAMP:20260420T043135
CREATED:20231218T013311Z
LAST-MODIFIED:20231218T013311Z
UID:3271-1702454400-1702486800@kglatajanggut.nadi.my
SUMMARY:resume writing
DESCRIPTION:-kelas resume untuk pelajar lepasan sekolah khususnya
URL:https://kglatajanggut.nadi.my/event/resume-writing-3/
LOCATION:PEDI KG LATA JANGGUT\, PEDI KG LATA JANGGUT
CATEGORIES:DEFAULT
END:VEVENT
BEGIN:VEVENT
DTSTART;TZID=UTC:20231211T080000
DTEND;TZID=UTC:20231211T170000
DTSTAMP:20260420T043135
CREATED:20231218T013227Z
LAST-MODIFIED:20231218T013227Z
UID:3270-1702281600-1702314000@kglatajanggut.nadi.my
SUMMARY:quiz online
DESCRIPTION:-quiz online diadakan d pedi terbuka kepada semua 
URL:https://kglatajanggut.nadi.my/event/quiz-online-2/
LOCATION:PEDI KG LATA JANGGUT\, PEDI KG LATA JANGGUT
CATEGORIES:DEFAULT
END:VEVENT
BEGIN:VEVENT
DTSTART;TZID=UTC:20231209T080000
DTEND;TZID=UTC:20231209T170000
DTSTAMP:20260420T043135
CREATED:20231218T013135Z
LAST-MODIFIED:20231218T013135Z
UID:3269-1702108800-1702141200@kglatajanggut.nadi.my
SUMMARY:kelas e-pembelajaran
DESCRIPTION:-kelas e-pembelajaran dibuka kepada semua peserta
URL:https://kglatajanggut.nadi.my/event/kelas-e-pembelajaran-6/
LOCATION:PEDI KG LATA JANGGUT\, PEDI KG LATA JANGGUT
CATEGORIES:DEFAULT
END:VEVENT
BEGIN:VEVENT
DTSTART;TZID=UTC:20231207T080000
DTEND;TZID=UTC:20231207T170000
DTSTAMP:20260420T043135
CREATED:20231218T013056Z
LAST-MODIFIED:20231218T013056Z
UID:3268-1701936000-1701968400@kglatajanggut.nadi.my
SUMMARY:keselamatan internet
DESCRIPTION:-kelas keselamatan internt
URL:https://kglatajanggut.nadi.my/event/keselamatan-internet/
LOCATION:PEDI KG LATA JANGGUT\, PEDI KG LATA JANGGUT
CATEGORIES:DEFAULT
END:VEVENT
BEGIN:VEVENT
DTSTART;TZID=UTC:20231204T080000
DTEND;TZID=UTC:20231204T170000
DTSTAMP:20260420T043135
CREATED:20231218T013015Z
LAST-MODIFIED:20231218T013015Z
UID:3267-1701676800-1701709200@kglatajanggut.nadi.my
SUMMARY:klik dengan bijak
DESCRIPTION:-kelas kdb dibuka kepada semua
URL:https://kglatajanggut.nadi.my/event/klik-dengan-bijak-4/
LOCATION:PEDI KG LATA JANGGUT\, PEDI KG LATA JANGGUT
CATEGORIES:DEFAULT
END:VEVENT
BEGIN:VEVENT
DTSTART;TZID=UTC:20231202T080000
DTEND;TZID=UTC:20231202T170000
DTSTAMP:20260420T043135
CREATED:20231218T012933Z
LAST-MODIFIED:20231218T012933Z
UID:3266-1701504000-1701536400@kglatajanggut.nadi.my
SUMMARY:kelas insaniah
DESCRIPTION:-kelas insaniah terbuka kepada semua yang ingin mengikutinya
URL:https://kglatajanggut.nadi.my/event/kelas-insaniah/
LOCATION:PEDI KG LATA JANGGUT\, PEDI KG LATA JANGGUT
CATEGORIES:DEFAULT
END:VEVENT
BEGIN:VEVENT
DTSTART;TZID=UTC:20231118T080000
DTEND;TZID=UTC:20231118T170000
DTSTAMP:20260420T043135
CREATED:20231115T202809Z
LAST-MODIFIED:20231115T202809Z
UID:3265-1700294400-1700326800@kglatajanggut.nadi.my
SUMMARY:KELAS KOMPUTER
DESCRIPTION:-KELAS INI TERBUKA KEPADA SEMUA YANG INGIN MENGIKUTI
URL:https://kglatajanggut.nadi.my/event/kelas-komputer-3/
LOCATION:PEDI KG LATA JANGGUT\, PEDI KG LATA JANGGUT
CATEGORIES:DEFAULT
END:VEVENT
BEGIN:VEVENT
DTSTART;TZID=UTC:20231117T080000
DTEND;TZID=UTC:20231117T170000
DTSTAMP:20260420T043135
CREATED:20231115T202703Z
LAST-MODIFIED:20231115T202703Z
UID:3264-1700208000-1700240400@kglatajanggut.nadi.my
SUMMARY:KELAS MENAIP
DESCRIPTION:-KELAS MENAIP KITA UTAMAKAN KEPADA PELAJAR SEKOLAH YANG KURANG FASIH DALAM TYPING
URL:https://kglatajanggut.nadi.my/event/kelas-menaip/
LOCATION:PEDI KG LATA JANGGUT\, PEDI KG LATA JANGGUT
CATEGORIES:DEFAULT
END:VEVENT
BEGIN:VEVENT
DTSTART;TZID=UTC:20231116T080000
DTEND;TZID=UTC:20231116T170000
DTSTAMP:20260420T043135
CREATED:20231115T202542Z
LAST-MODIFIED:20231115T202542Z
UID:3263-1700121600-1700154000@kglatajanggut.nadi.my
SUMMARY:PUZZLE ONLINE
DESCRIPTION:-KELAS INI DISEDIAKAN KEPADA PELAJAR2 SEKOLAH RENDAH
URL:https://kglatajanggut.nadi.my/event/puzzle-online-11/
LOCATION:PEDI KG LATA JANGGUT\, PEDI KG LATA JANGGUT
CATEGORIES:DEFAULT
END:VEVENT
BEGIN:VEVENT
DTSTART;TZID=UTC:20231115T080000
DTEND;TZID=UTC:20231115T170000
DTSTAMP:20260420T043135
CREATED:20231115T202456Z
LAST-MODIFIED:20231115T202456Z
UID:3262-1700035200-1700067600@kglatajanggut.nadi.my
SUMMARY:KELAS CANVA
DESCRIPTION:-MENGADAKAN KELAS CANVA KEPADA PESERTA SEKOLAH YANG INGIN MENGIKUTI TIDAK KIRA PERINGKAT UMUR
URL:https://kglatajanggut.nadi.my/event/kelas-canva-3/
LOCATION:PEDI KG LATA JANGGUT\, PEDI KG LATA JANGGUT
CATEGORIES:DEFAULT
END:VEVENT
BEGIN:VEVENT
DTSTART;TZID=UTC:20231113T080000
DTEND;TZID=UTC:20231113T170000
DTSTAMP:20260420T043135
CREATED:20231115T202235Z
LAST-MODIFIED:20231115T202235Z
UID:3261-1699862400-1699894800@kglatajanggut.nadi.my
SUMMARY:PERSONAL BRANDING
DESCRIPTION:-MENGAJAR CARA-CARA UNTUK MENGHASILKAN PERSONAL BRANDING DENGAN PRODUK SENDIRI
URL:https://kglatajanggut.nadi.my/event/personal-branding/
LOCATION:PEDI KG LATA JANGGUT\, PEDI KG LATA JANGGUT
CATEGORIES:DEFAULT
END:VEVENT
BEGIN:VEVENT
DTSTART;TZID=UTC:20231110T080000
DTEND;TZID=UTC:20231110T170000
DTSTAMP:20260420T043135
CREATED:20231115T202131Z
LAST-MODIFIED:20231115T202131Z
UID:3260-1699603200-1699635600@kglatajanggut.nadi.my
SUMMARY:ETIKA BISNES
DESCRIPTION:-MENGADAKAN KELAS BAGAIMANA PENGURUSAN DAN ETIKA DALAM BISNES
URL:https://kglatajanggut.nadi.my/event/etika-bisnes/
LOCATION:PEDI KG LATA JANGGUT\, PEDI KG LATA JANGGUT
CATEGORIES:DEFAULT
END:VEVENT
BEGIN:VEVENT
DTSTART;TZID=UTC:20231108T080000
DTEND;TZID=UTC:20231108T170000
DTSTAMP:20260420T043135
CREATED:20231115T202037Z
LAST-MODIFIED:20231115T202037Z
UID:3259-1699430400-1699462800@kglatajanggut.nadi.my
SUMMARY:JUDI SIBER
DESCRIPTION:-MEMBERI KESEDARAN SIVIK BERKAITAN KESALAH JUDI SIBER AGAR KOMUNITI TIDAK TERJEBAT DENGAN AKTIVITI YANG KURANG BERMORAL INI
URL:https://kglatajanggut.nadi.my/event/judi-siber/
LOCATION:PEDI KG LATA JANGGUT\, PEDI KG LATA JANGGUT
CATEGORIES:DEFAULT
END:VEVENT
BEGIN:VEVENT
DTSTART;TZID=UTC:20231107T080000
DTEND;TZID=UTC:20231107T170000
DTSTAMP:20260420T043135
CREATED:20231115T201854Z
LAST-MODIFIED:20231115T201854Z
UID:3258-1699344000-1699376400@kglatajanggut.nadi.my
SUMMARY:PENYALAHGUNAAN INTERNET
DESCRIPTION:-PIHAK KAMI MENGADAKAN KELAS KESEDARAN KEPADA KOMUNITI BAGAIMANA CARA UNTUK MENCEGAH DARI PENYALAHGUNAAN INTERNET PADA MASA KINI
URL:https://kglatajanggut.nadi.my/event/penyalahgunaan-internet/
LOCATION:PEDI KG LATA JANGGUT\, PEDI KG LATA JANGGUT
CATEGORIES:DEFAULT
END:VEVENT
BEGIN:VEVENT
DTSTART;TZID=UTC:20231104T080000
DTEND;TZID=UTC:20231104T170000
DTSTAMP:20260420T043135
CREATED:20231115T201732Z
LAST-MODIFIED:20231115T201732Z
UID:3257-1699084800-1699117200@kglatajanggut.nadi.my
SUMMARY:TIPS PENGURUSAN DIRI
DESCRIPTION:-MENUNJUK DAN MEMAPARKAN BAGAIMANA CARA-CARA UNTUK PENGURUSAN DIRI YANG BAIK
URL:https://kglatajanggut.nadi.my/event/tips-pengurusan-diri/
LOCATION:PEDI KG LATA JANGGUT\, PEDI KG LATA JANGGUT
CATEGORIES:DEFAULT
END:VEVENT
END:VCALENDAR